BEGIN:VCALENDAR
VERSION:2.0
PRODID:https://www.kufer.de/kuferweb / DE
METHOD:PUBLISH
CALSCALE:GREGORIAN
X-WR-TIMEZONE:Europe/Berlin
BEGIN:VTIMEZONE
TZID:Europe/Berlin
X-LIC-LOCATION:Europe/Berlin
BEGIN:DAYLIGHT
TZOFFSETFROM:+0100
TZOFFSETTO:+0200
TZNAME:CEST
DTSTART:19700329T020000
RRULE:FREQ=YEARLY;INTERVAL=1;BYDAY=-1SU;BYMONTH=3
END:DAYLIGHT
BEGIN:STANDARD
TZOFFSETFROM:+0200
TZOFFSETTO:+0100
TZNAME:CET
DTSTART:19701025T030000
RRULE:FREQ=YEARLY;INTERVAL=1;BYDAY=-1SU;BYMONTH=10
END:STANDARD
END:VTIMEZONE
BEGIN:VEVENT
DTSTAMP:20260424T032946
DTSTART;TZID=Europe/Berlin:20250410T180000
DTEND;TZID=Europe/Berlin:20250410T184500
UID:242-3901-20250410T180000@VHSHECHINGEN
SUMMARY:Reha-Sport Orthopädie Gruppe 1 (242-3901) 
LOCATION:Lichtenauhalle, Hallenfeld 3, Eveltstraße 6, 72379 Hechingen
END:VEVENT
BEGIN:VEVENT
DTSTAMP:20260424T032946
DTSTART;TZID=Europe/Berlin:20250508T180000
DTEND;TZID=Europe/Berlin:20250508T184500
UID:242-3901-20250508T180000@VHSHECHINGEN
SUMMARY:Reha-Sport Orthopädie Gruppe 1 (242-3901) 
LOCATION:Lichtenauhalle, Hallenfeld 3, Eveltstraße 6, 72379 Hechingen
END:VEVENT
BEGIN:VEVENT
DTSTAMP:20260424T032946
DTSTART;TZID=Europe/Berlin:20250515T180000
DTEND;TZID=Europe/Berlin:20250515T184500
UID:242-3901-20250515T180000@VHSHECHINGEN
SUMMARY:Reha-Sport Orthopädie Gruppe 1 (242-3901) 
LOCATION:Lichtenauhalle, Hallenfeld 3, Eveltstraße 6, 72379 Hechingen
END:VEVENT
BEGIN:VEVENT
DTSTAMP:20260424T032946
DTSTART;TZID=Europe/Berlin:20250522T180000
DTEND;TZID=Europe/Berlin:20250522T184500
UID:242-3901-20250522T180000@VHSHECHINGEN
SUMMARY:Reha-Sport Orthopädie Gruppe 1 (242-3901) 
LOCATION:Lichtenauhalle, Hallenfeld 3, Eveltstraße 6, 72379 Hechingen
END:VEVENT
BEGIN:VEVENT
DTSTAMP:20260424T032946
DTSTART;TZID=Europe/Berlin:20250605T180000
DTEND;TZID=Europe/Berlin:20250605T184500
UID:242-3901-20250605T180000@VHSHECHINGEN
SUMMARY:Reha-Sport Orthopädie Gruppe 1 (242-3901) 
LOCATION:Lichtenauhalle, Hallenfeld 3, Eveltstraße 6, 72379 Hechingen
END:VEVENT
BEGIN:VEVENT
DTSTAMP:20260424T032946
DTSTART;TZID=Europe/Berlin:20250626T180000
DTEND;TZID=Europe/Berlin:20250626T184500
UID:242-3901-20250626T180000@VHSHECHINGEN
SUMMARY:Reha-Sport Orthopädie Gruppe 1 (242-3901) 
LOCATION:Lichtenauhalle, Hallenfeld 3, Eveltstraße 6, 72379 Hechingen
END:VEVENT
BEGIN:VEVENT
DTSTAMP:20260424T032946
DTSTART;TZID=Europe/Berlin:20250703T180000
DTEND;TZID=Europe/Berlin:20250703T184500
UID:242-3901-20250703T180000@VHSHECHINGEN
SUMMARY:Reha-Sport Orthopädie Gruppe 1 (242-3901) 
LOCATION:Lichtenauhalle, Hallenfeld 3, Eveltstraße 6, 72379 Hechingen
END:VEVENT
BEGIN:VEVENT
DTSTAMP:20260424T032946
DTSTART;TZID=Europe/Berlin:20250710T180000
DTEND;TZID=Europe/Berlin:20250710T184500
UID:242-3901-20250710T180000@VHSHECHINGEN
SUMMARY:Reha-Sport Orthopädie Gruppe 1 (242-3901) 
LOCATION:Lichtenauhalle, Hallenfeld 3, Eveltstraße 6, 72379 Hechingen
END:VEVENT
BEGIN:VEVENT
DTSTAMP:20260424T032946
DTSTART;TZID=Europe/Berlin:20250717T180000
DTEND;TZID=Europe/Berlin:20250717T184500
UID:242-3901-20250717T180000@VHSHECHINGEN
SUMMARY:Reha-Sport Orthopädie Gruppe 1 (242-3901) 
LOCATION:Lichtenauhalle, Hallenfeld 3, Eveltstraße 6, 72379 Hechingen
END:VEVENT
BEGIN:VEVENT
DTSTAMP:20260424T032946
DTSTART;TZID=Europe/Berlin:20250724T180000
DTEND;TZID=Europe/Berlin:20250724T184500
UID:242-3901-20250724T180000@VHSHECHINGEN
SUMMARY:Reha-Sport Orthopädie Gruppe 1 (242-3901) 
LOCATION:Lichtenauhalle, Hallenfeld 3, Eveltstraße 6, 72379 Hechingen
END:VEVENT
BEGIN:VEVENT
DTSTAMP:20260424T032946
DTSTART;TZID=Europe/Berlin:20250918T174500
DTEND;TZID=Europe/Berlin:20250918T183000
UID:242-3901-20250918T174500@VHSHECHINGEN
DESCRIPTION:Wechsel in Raum 201, Uhrzeit geändert!!!!
SUMMARY:Reha-Sport Orthopädie Gruppe 1 (242-3901) 
LOCATION:vhs Hechingen, R. 201, 2. OG (gelber Hauseingang), Münzgasse 4/1 , 72379 Hechingen
END:VEVENT
BEGIN:VEVENT
DTSTAMP:20260424T032946
DTSTART;TZID=Europe/Berlin:20250925T174500
DTEND;TZID=Europe/Berlin:20250925T183000
UID:242-3901-20250925T174500@VHSHECHINGEN
SUMMARY:Reha-Sport Orthopädie Gruppe 1 (242-3901) 
LOCATION:vhs Hechingen, R. 201, 2. OG (gelber Hauseingang), Münzgasse 4/1 , 72379 Hechingen
END:VEVENT
BEGIN:VEVENT
DTSTAMP:20260424T032946
DTSTART;TZID=Europe/Berlin:20251009T174500
DTEND;TZID=Europe/Berlin:20251009T183000
UID:242-3901-20251009T174500@VHSHECHINGEN
SUMMARY:Reha-Sport Orthopädie Gruppe 1 (242-3901) 
LOCATION:vhs Hechingen, R. 201, 2. OG (gelber Hauseingang), Münzgasse 4/1 , 72379 Hechingen
END:VEVENT
BEGIN:VEVENT
DTSTAMP:20260424T032946
DTSTART;TZID=Europe/Berlin:20251016T174500
DTEND;TZID=Europe/Berlin:20251016T183000
UID:242-3901-20251016T174500@VHSHECHINGEN
SUMMARY:Reha-Sport Orthopädie Gruppe 1 (242-3901) 
LOCATION:vhs Hechingen, R. 201, 2. OG (gelber Hauseingang), Münzgasse 4/1 , 72379 Hechingen
END:VEVENT
BEGIN:VEVENT
DTSTAMP:20260424T032946
DTSTART;TZID=Europe/Berlin:20251023T174500
DTEND;TZID=Europe/Berlin:20251023T183000
UID:242-3901-20251023T174500@VHSHECHINGEN
SUMMARY:Reha-Sport Orthopädie Gruppe 1 (242-3901) 
LOCATION:vhs Hechingen, R. 201, 2. OG (gelber Hauseingang), Münzgasse 4/1 , 72379 Hechingen
END:VEVENT
BEGIN:VEVENT
DTSTAMP:20260424T032946
DTSTART;TZID=Europe/Berlin:20251106T174500
DTEND;TZID=Europe/Berlin:20251106T183000
UID:242-3901-20251106T174500@VHSHECHINGEN
SUMMARY:Reha-Sport Orthopädie Gruppe 1 (242-3901) 
LOCATION:vhs Hechingen, R. 201, 2. OG (gelber Hauseingang), Münzgasse 4/1 , 72379 Hechingen
END:VEVENT
BEGIN:VEVENT
DTSTAMP:20260424T032946
DTSTART;TZID=Europe/Berlin:20251113T174500
DTEND;TZID=Europe/Berlin:20251113T183000
UID:242-3901-20251113T174500@VHSHECHINGEN
SUMMARY:Reha-Sport Orthopädie Gruppe 1 (242-3901) 
LOCATION:vhs Hechingen, R. 201, 2. OG (gelber Hauseingang), Münzgasse 4/1 , 72379 Hechingen
END:VEVENT
BEGIN:VEVENT
DTSTAMP:20260424T032946
DTSTART;TZID=Europe/Berlin:20251120T174500
DTEND;TZID=Europe/Berlin:20251120T183000
UID:242-3901-20251120T174500@VHSHECHINGEN
SUMMARY:Reha-Sport Orthopädie Gruppe 1 (242-3901) 
LOCATION:vhs Hechingen, R. 201, 2. OG (gelber Hauseingang), Münzgasse 4/1 , 72379 Hechingen
END:VEVENT
BEGIN:VEVENT
DTSTAMP:20260424T032946
DTSTART;TZID=Europe/Berlin:20251127T174500
DTEND;TZID=Europe/Berlin:20251127T183000
UID:242-3901-20251127T174500@VHSHECHINGEN
SUMMARY:Reha-Sport Orthopädie Gruppe 1 (242-3901) 
LOCATION:vhs Hechingen, R. 201, 2. OG (gelber Hauseingang), Münzgasse 4/1 , 72379 Hechingen
END:VEVENT
BEGIN:VEVENT
DTSTAMP:20260424T032946
DTSTART;TZID=Europe/Berlin:20251204T174500
DTEND;TZID=Europe/Berlin:20251204T183000
UID:242-3901-20251204T174500@VHSHECHINGEN
SUMMARY:Reha-Sport Orthopädie Gruppe 1 (242-3901) 
LOCATION:vhs Hechingen, R. 201, 2. OG (gelber Hauseingang), Münzgasse 4/1 , 72379 Hechingen
END:VEVENT
BEGIN:VEVENT
DTSTAMP:20260424T032946
DTSTART;TZID=Europe/Berlin:20251211T174500
DTEND;TZID=Europe/Berlin:20251211T183000
UID:242-3901-20251211T174500@VHSHECHINGEN
SUMMARY:Reha-Sport Orthopädie Gruppe 1 (242-3901) 
LOCATION:vhs Hechingen, R. 201, 2. OG (gelber Hauseingang), Münzgasse 4/1 , 72379 Hechingen
END:VEVENT
BEGIN:VEVENT
DTSTAMP:20260424T032946
DTSTART;TZID=Europe/Berlin:20251218T174500
DTEND;TZID=Europe/Berlin:20251218T183000
UID:242-3901-20251218T174500@VHSHECHINGEN
SUMMARY:Reha-Sport Orthopädie Gruppe 1 (242-3901) 
LOCATION:vhs Hechingen, R. 201, 2. OG (gelber Hauseingang), Münzgasse 4/1 , 72379 Hechingen
END:VEVENT
BEGIN:VEVENT
DTSTAMP:20260424T032946
DTSTART;TZID=Europe/Berlin:20260108T174500
DTEND;TZID=Europe/Berlin:20260108T183000
UID:242-3901-20260108T174500@VHSHECHINGEN
SUMMARY:Reha-Sport Orthopädie Gruppe 1 (242-3901) 
LOCATION:vhs Hechingen, R. 201, 2. OG (gelber Hauseingang), Münzgasse 4/1 , 72379 Hechingen
END:VEVENT
BEGIN:VEVENT
DTSTAMP:20260424T032946
DTSTART;TZID=Europe/Berlin:20260115T174500
DTEND;TZID=Europe/Berlin:20260115T183000
UID:242-3901-20260115T174500@VHSHECHINGEN
SUMMARY:Reha-Sport Orthopädie Gruppe 1 (242-3901) 
LOCATION:vhs Hechingen, R. 201, 2. OG (gelber Hauseingang), Münzgasse 4/1 , 72379 Hechingen
END:VEVENT
BEGIN:VEVENT
DTSTAMP:20260424T032946
DTSTART;TZID=Europe/Berlin:20260122T174500
DTEND;TZID=Europe/Berlin:20260122T183000
UID:242-3901-20260122T174500@VHSHECHINGEN
SUMMARY:Reha-Sport Orthopädie Gruppe 1 (242-3901) 
LOCATION:vhs Hechingen, R. 201, 2. OG (gelber Hauseingang), Münzgasse 4/1 , 72379 Hechingen
END:VEVENT
BEGIN:VEVENT
DTSTAMP:20260424T032946
DTSTART;TZID=Europe/Berlin:20260129T174500
DTEND;TZID=Europe/Berlin:20260129T183000
UID:242-3901-20260129T174500@VHSHECHINGEN
SUMMARY:Reha-Sport Orthopädie Gruppe 1 (242-3901) 
LOCATION:vhs Hechingen, R. 201, 2. OG (gelber Hauseingang), Münzgasse 4/1 , 72379 Hechingen
END:VEVENT
BEGIN:VEVENT
DTSTAMP:20260424T032946
DTSTART;TZID=Europe/Berlin:20260205T174500
DTEND;TZID=Europe/Berlin:20260205T183000
UID:242-3901-20260205T174500@VHSHECHINGEN
SUMMARY:Reha-Sport Orthopädie Gruppe 1 (242-3901) 
LOCATION:vhs Hechingen, R. 201, 2. OG (gelber Hauseingang), Münzgasse 4/1 , 72379 Hechingen
END:VEVENT
BEGIN:VEVENT
DTSTAMP:20260424T032946
DTSTART;TZID=Europe/Berlin:20260219T174500
DTEND;TZID=Europe/Berlin:20260219T183000
UID:242-3901-20260219T174500@VHSHECHINGEN
SUMMARY:Reha-Sport Orthopädie Gruppe 1 (242-3901) 
LOCATION:vhs Hechingen, R. 201, 2. OG (gelber Hauseingang), Münzgasse 4/1 , 72379 Hechingen
END:VEVENT
BEGIN:VEVENT
DTSTAMP:20260424T032946
DTSTART;TZID=Europe/Berlin:20260226T174500
DTEND;TZID=Europe/Berlin:20260226T183000
UID:242-3901-20260226T174500@VHSHECHINGEN
SUMMARY:Reha-Sport Orthopädie Gruppe 1 (242-3901) 
LOCATION:vhs Hechingen, R. 201, 2. OG (gelber Hauseingang), Münzgasse 4/1 , 72379 Hechingen
END:VEVENT
BEGIN:VEVENT
DTSTAMP:20260424T032946
DTSTART;TZID=Europe/Berlin:20260305T174500
DTEND;TZID=Europe/Berlin:20260305T183000
UID:242-3901-20260305T174500@VHSHECHINGEN
SUMMARY:Reha-Sport Orthopädie Gruppe 1 (242-3901) 
LOCATION:vhs Hechingen, R. 201, 2. OG (gelber Hauseingang), Münzgasse 4/1 , 72379 Hechingen
END:VEVENT
BEGIN:VEVENT
DTSTAMP:20260424T032946
DTSTART;TZID=Europe/Berlin:20260312T174500
DTEND;TZID=Europe/Berlin:20260312T183000
UID:242-3901-20260312T174500@VHSHECHINGEN
SUMMARY:Reha-Sport Orthopädie Gruppe 1 (242-3901) 
LOCATION:vhs Hechingen, R. 201, 2. OG (gelber Hauseingang), Münzgasse 4/1 , 72379 Hechingen
END:VEVENT
BEGIN:VEVENT
DTSTAMP:20260424T032946
DTSTART;TZID=Europe/Berlin:20260319T174500
DTEND;TZID=Europe/Berlin:20260319T183000
UID:242-3901-20260319T174500@VHSHECHINGEN
SUMMARY:Reha-Sport Orthopädie Gruppe 1 (242-3901) 
LOCATION:vhs Hechingen, R. 201, 2. OG (gelber Hauseingang), Münzgasse 4/1 , 72379 Hechingen
END:VEVENT
BEGIN:VEVENT
DTSTAMP:20260424T032946
DTSTART;TZID=Europe/Berlin:20260326T174500
DTEND;TZID=Europe/Berlin:20260326T183000
UID:242-3901-20260326T174500@VHSHECHINGEN
SUMMARY:Reha-Sport Orthopädie Gruppe 1 (242-3901) 
LOCATION:vhs Hechingen, R. 201, 2. OG (gelber Hauseingang), Münzgasse 4/1 , 72379 Hechingen
END:VEVENT
BEGIN:VEVENT
DTSTAMP:20260424T032946
DTSTART;TZID=Europe/Berlin:20260416T174500
DTEND;TZID=Europe/Berlin:20260416T183000
UID:242-3901-20260416T174500@VHSHECHINGEN
SUMMARY:Reha-Sport Orthopädie Gruppe 1 (242-3901) 
LOCATION:vhs Hechingen, R. 201, 2. OG (gelber Hauseingang), Münzgasse 4/1 , 72379 Hechingen
END:VEVENT
BEGIN:VEVENT
DTSTAMP:20260424T032946
DTSTART;TZID=Europe/Berlin:20260423T173500
DTEND;TZID=Europe/Berlin:20260423T182000
UID:242-3901-20260423T173500@VHSHECHINGEN
SUMMARY:Reha-Sport Orthopädie Gruppe 1 (242-3901) 
LOCATION:vhs Hechingen, R. 201, 2. OG (gelber Hauseingang), Münzgasse 4/1 , 72379 Hechingen
END:VEVENT
BEGIN:VEVENT
DTSTAMP:20260424T032946
DTSTART;TZID=Europe/Berlin:20260430T173500
DTEND;TZID=Europe/Berlin:20260430T182000
UID:242-3901-20260430T173500@VHSHECHINGEN
SUMMARY:Reha-Sport Orthopädie Gruppe 1 (242-3901) 
LOCATION:vhs Hechingen, R. 201, 2. OG (gelber Hauseingang), Münzgasse 4/1 , 72379 Hechingen
END:VEVENT
BEGIN:VEVENT
DTSTAMP:20260424T032946
DTSTART;TZID=Europe/Berlin:20260507T173500
DTEND;TZID=Europe/Berlin:20260507T182000
UID:242-3901-20260507T173500@VHSHECHINGEN
SUMMARY:Reha-Sport Orthopädie Gruppe 1 (242-3901) 
LOCATION:vhs Hechingen, R. 201, 2. OG (gelber Hauseingang), Münzgasse 4/1 , 72379 Hechingen
END:VEVENT
BEGIN:VEVENT
DTSTAMP:20260424T032946
DTSTART;TZID=Europe/Berlin:20260521T173500
DTEND;TZID=Europe/Berlin:20260521T182000
UID:242-3901-20260521T173500@VHSHECHINGEN
SUMMARY:Reha-Sport Orthopädie Gruppe 1 (242-3901) 
LOCATION:vhs Hechingen, R. 201, 2. OG (gelber Hauseingang), Münzgasse 4/1 , 72379 Hechingen
END:VEVENT
BEGIN:VEVENT
DTSTAMP:20260424T032946
DTSTART;TZID=Europe/Berlin:20260611T174500
DTEND;TZID=Europe/Berlin:20260611T183000
UID:242-3901-20260611T174500@VHSHECHINGEN
DESCRIPTION:Klären, wann Kursstart wegen Folgekurs Herr Muratovic
SUMMARY:Reha-Sport Orthopädie Gruppe 1 (242-3901) 
LOCATION:vhs Hechingen, R. 201, 2. OG (gelber Hauseingang), Münzgasse 4/1 , 72379 Hechingen
END:VEVENT
BEGIN:VEVENT
DTSTAMP:20260424T032946
DTSTART;TZID=Europe/Berlin:20260618T174500
DTEND;TZID=Europe/Berlin:20260618T183000
UID:242-3901-20260618T174500@VHSHECHINGEN
SUMMARY:Reha-Sport Orthopädie Gruppe 1 (242-3901) 
LOCATION:vhs Hechingen, R. 201, 2. OG (gelber Hauseingang), Münzgasse 4/1 , 72379 Hechingen
END:VEVENT
BEGIN:VEVENT
DTSTAMP:20260424T032946
DTSTART;TZID=Europe/Berlin:20260625T174500
DTEND;TZID=Europe/Berlin:20260625T183000
UID:242-3901-20260625T174500@VHSHECHINGEN
SUMMARY:Reha-Sport Orthopädie Gruppe 1 (242-3901) 
LOCATION:vhs Hechingen, R. 201, 2. OG (gelber Hauseingang), Münzgasse 4/1 , 72379 Hechingen
END:VEVENT
BEGIN:VEVENT
DTSTAMP:20260424T032946
DTSTART;TZID=Europe/Berlin:20260702T174500
DTEND;TZID=Europe/Berlin:20260702T183000
UID:242-3901-20260702T174500@VHSHECHINGEN
SUMMARY:Reha-Sport Orthopädie Gruppe 1 (242-3901) 
LOCATION:vhs Hechingen, R. 201, 2. OG (gelber Hauseingang), Münzgasse 4/1 , 72379 Hechingen
END:VEVENT
BEGIN:VEVENT
DTSTAMP:20260424T032946
DTSTART;TZID=Europe/Berlin:20260709T174500
DTEND;TZID=Europe/Berlin:20260709T183000
UID:242-3901-20260709T174500@VHSHECHINGEN
SUMMARY:Reha-Sport Orthopädie Gruppe 1 (242-3901) 
LOCATION:vhs Hechingen, R. 201, 2. OG (gelber Hauseingang), Münzgasse 4/1 , 72379 Hechingen
END:VEVENT
BEGIN:VEVENT
DTSTAMP:20260424T032946
DTSTART;TZID=Europe/Berlin:20260716T174500
DTEND;TZID=Europe/Berlin:20260716T183000
UID:242-3901-20260716T174500@VHSHECHINGEN
SUMMARY:Reha-Sport Orthopädie Gruppe 1 (242-3901) 
LOCATION:vhs Hechingen, R. 201, 2. OG (gelber Hauseingang), Münzgasse 4/1 , 72379 Hechingen
END:VEVENT
BEGIN:VEVENT
DTSTAMP:20260424T032946
DTSTART;TZID=Europe/Berlin:20260723T174500
DTEND;TZID=Europe/Berlin:20260723T183000
UID:242-3901-20260723T174500@VHSHECHINGEN
SUMMARY:Reha-Sport Orthopädie Gruppe 1 (242-3901) 
LOCATION:vhs Hechingen, R. 201, 2. OG (gelber Hauseingang), Münzgasse 4/1 , 72379 Hechingen
END:VEVENT
BEGIN:VEVENT
DTSTAMP:20260424T032946
DTSTART;TZID=Europe/Berlin:20260917T174500
DTEND;TZID=Europe/Berlin:20260917T183000
UID:242-3901-20260917T174500@VHSHECHINGEN
SUMMARY:Reha-Sport Orthopädie Gruppe 1 (242-3901) 
LOCATION:vhs Hechingen, R. 201, 2. OG (gelber Hauseingang), Münzgasse 4/1 , 72379 Hechingen
END:VEVENT
BEGIN:VEVENT
DTSTAMP:20260424T032946
DTSTART;TZID=Europe/Berlin:20260924T174500
DTEND;TZID=Europe/Berlin:20260924T183000
UID:242-3901-20260924T174500@VHSHECHINGEN
SUMMARY:Reha-Sport Orthopädie Gruppe 1 (242-3901) 
LOCATION:vhs Hechingen, R. 201, 2. OG (gelber Hauseingang), Münzgasse 4/1 , 72379 Hechingen
END:VEVENT
BEGIN:VEVENT
DTSTAMP:20260424T032946
DTSTART;TZID=Europe/Berlin:20261001T174500
DTEND;TZID=Europe/Berlin:20261001T183000
UID:242-3901-20261001T174500@VHSHECHINGEN
SUMMARY:Reha-Sport Orthopädie Gruppe 1 (242-3901) 
LOCATION:vhs Hechingen, R. 201, 2. OG (gelber Hauseingang), Münzgasse 4/1 , 72379 Hechingen
END:VEVENT
BEGIN:VEVENT
DTSTAMP:20260424T032946
DTSTART;TZID=Europe/Berlin:20261008T174500
DTEND;TZID=Europe/Berlin:20261008T183000
UID:242-3901-20261008T174500@VHSHECHINGEN
SUMMARY:Reha-Sport Orthopädie Gruppe 1 (242-3901) 
LOCATION:vhs Hechingen, R. 201, 2. OG (gelber Hauseingang), Münzgasse 4/1 , 72379 Hechingen
END:VEVENT
BEGIN:VEVENT
DTSTAMP:20260424T032946
DTSTART;TZID=Europe/Berlin:20261015T174500
DTEND;TZID=Europe/Berlin:20261015T183000
UID:242-3901-20261015T174500@VHSHECHINGEN
SUMMARY:Reha-Sport Orthopädie Gruppe 1 (242-3901) 
LOCATION:vhs Hechingen, R. 201, 2. OG (gelber Hauseingang), Münzgasse 4/1 , 72379 Hechingen
END:VEVENT
END:VCALENDAR